BEGIN:VCALENDAR
VERSION:2.0
PRODID:-//END CHURCH - ECPv4.6.20.1//NONSGML v1.0//EN
CALSCALE:GREGORIAN
METHOD:PUBLISH
X-WR-CALNAME:END CHURCH
X-ORIGINAL-URL:http://endchurch.com.au
X-WR-CALDESC:Events for END CHURCH
BEGIN:VEVENT
DTSTART;TZID=UTC+10:20170416T090000
DTEND;TZID=UTC+10:20170416T103000
DTSTAMP:20190226T162823
CREATED:20170407T123528Z
LAST-MODIFIED:20170407T123610Z
UID:1321-1492333200-1492338600@endchurch.com.au
SUMMARY:Easter Sunday Service
DESCRIPTION:We would love you to join us on Easter Sunday for our service at 9am. \n
URL:http://endchurch.com.au/event/easter-sunday-service/
LOCATION:8 Vulture St\, West End\, QLD\, 4101\, Australia
CATEGORIES:End Church Event
ATTACH;FMTTYPE=image/png:http://endchurch.com.au/wp-content/uploads/2017/04/Join-us-on-1.png
END:VEVENT
END:VCALENDAR